BEGIN:VCALENDAR
VERSION:2.0
PRODID:-//wp-events-plugin.com//7.2.3.1//EN
TZID:Europe/Berlin
X-WR-TIMEZONE:Europe/Berlin
BEGIN:VEVENT
UID:1664@herzauf.de
DTSTART;TZID=Europe/Berlin:20260517T190000
DTEND;TZID=Europe/Berlin:20260517T210000
DTSTAMP:20260424T123459Z
URL:https://www.herzauf.de/events/ecstatic-dance-the-lyrical-journey/
SUMMARY:Ecstatic Dance: The Lyrical Journey
DESCRIPTION:Dieser Ecstatic Dance führt auf eine lyrische Reise im tänzer
 ischen Selbstausdruck\, von dynamisch\, dramatisch über lebendig\, spiele
 risch bis zart hin zur wohligen Ruhe. Martin Henkemeier lädt die Tanzende
 n zu äußerer und innerer Bewegung im Einklang\, zum Mitschwingen auf ein
 er Welle von Fantasie und Kreativität ein\, aus der jeweils ganz eigene B
 ilder\, Emotionen und deren Ausdruck entstehen.\n\n
LOCATION:Tanzraum der musa\, Hagenweg 2a\, Göttingen\, Deutschland
X-APPLE-STRUCTURED-LOCATION;VALUE=URI;X-ADDRESS=Hagenweg 2a\, Göttingen\, 
 Deutschland;X-APPLE-RADIUS=100;X-TITLE=Tanzraum der musa:geo:0,0
END:VEVENT
BEGIN:VTIMEZONE
TZID:Europe/Berlin
X-LIC-LOCATION:Europe/Berlin
BEGIN:DAYLIGHT
DTSTART:20260329T030000
TZOFFSETFROM:+0100
TZOFFSETTO:+0200
TZNAME:CEST
END:DAYLIGHT
END:VTIMEZONE
END:VCALENDAR