BEGIN:VCALENDAR
VERSION:2.0
PRODID:-//wp-events-plugin.com//7.2.3.1//EN
TZID:Europe/Berlin
X-WR-TIMEZONE:Europe/Berlin
BEGIN:VEVENT
UID:1658@herzauf.de
DTSTART;TZID=Europe/Berlin:20260530T140000
DTEND;TZID=Europe/Berlin:20260530T200000
DTSTAMP:20260424T122842Z
URL:https://www.herzauf.de/events/herz-auf-singnachmittag-2/
SUMMARY:"Herz auf!"-Singnachmittag
DESCRIPTION:Eintauchen in Klang\, Gesang\, Bewegung\, Begegnung und Gemeins
 chaft\, sich berühren und bewegen lassen zwischen Stille und Mehrstimmigk
 eit\, sich vielfältig spüren und Innenkehr finden beim meditativen Singe
 n - das ist die Einladung für den Singnachmittag mit Petra Lancier\, Gund
 ula Schibe\, Martin Henkemeier und Astrid Fakler\, die etwas kürzere Vers
 ion des beliebten "Herz auf!-Sintages.\nMehr Infos und Anmeldung unter: si
 ngtag@posteo.de
LOCATION:Praxis Leinestraße\, Leinestr. 11\, Göttingen\, Deutschland
X-APPLE-STRUCTURED-LOCATION;VALUE=URI;X-ADDRESS=Leinestr. 11\, Göttingen\,
  Deutschland;X-APPLE-RADIUS=100;X-TITLE=Praxis Leinestraße:geo:0,0
END:VEVENT
BEGIN:VTIMEZONE
TZID:Europe/Berlin
X-LIC-LOCATION:Europe/Berlin
BEGIN:DAYLIGHT
DTSTART:20260329T030000
TZOFFSETFROM:+0100
TZOFFSETTO:+0200
TZNAME:CEST
END:DAYLIGHT
END:VTIMEZONE
END:VCALENDAR