BEGIN:VCALENDAR
VERSION:2.0
PRODID:-//wp-events-plugin.com//7.2.3.1//EN
TZID:Europe/Berlin
X-WR-TIMEZONE:Europe/Berlin
BEGIN:VEVENT
UID:1665@herzauf.de
DTSTART;TZID=Europe/Berlin:20260513T190000
DTEND;TZID=Europe/Berlin:20260513T210000
DTSTAMP:20260424T130226Z
URL:https://www.herzauf.de/events/herzabend-online-3/
SUMMARY:Herzabend: Aufblühen und Lebendigkeit
DESCRIPTION:"Ein Abend für dich. Für Einkehr. Für Innere Balance."\, bes
 chreibt Anna Rita Cozzetto ihr neues Angebot im neuen Jahr.\n"Die neue Zei
 t kann viel auslösen:\n- Nervosität und diffuse Unruhe\n- emotionale Üb
 erforderung\n- das Gefühl\, „zu viel“ leisten zu müssen\n- ein Nerve
 nsystem\, das kaum zur Ruhe kommt\n- ein Herz\, das sich nach Wärme\, Ver
 bindung und Frieden sehnt"\nGenau dafür öffnet Anna Rita den Herzabend 
 – ein kraftvolles Live-Ritual\, das die Teilnehmenden in ihre Mitte zur
 ückbringen soll.\nDich erwarten: Eine geführte Herz-Meditation\, Mikro-R
 ituale zur Sofort-Regulation\, Nervensystem-Entspannung\, eine sanfte\, wa
 rme Atmosphäre\, Raum zum Loslassen &amp\; Auftanken sowie ein Gefühl vo
 n „Ich bin wieder bei mir“.\nThema heute: "Aufblühen &amp\; Lebendigk
 eit - Wenn das Leben nach außen drängt. Wie viel Nähe\, Ausdruck und He
 rzöffnung erlaube ich mir?"\nDie Teilnehmendenzahl ist auf 8 Personen beg
 renzt.\nAnmeldung: annarita@diamantspirit.de
END:VEVENT
BEGIN:VTIMEZONE
TZID:Europe/Berlin
X-LIC-LOCATION:Europe/Berlin
BEGIN:DAYLIGHT
DTSTART:20260329T030000
TZOFFSETFROM:+0100
TZOFFSETTO:+0200
TZNAME:CEST
END:DAYLIGHT
END:VTIMEZONE
END:VCALENDAR