BEGIN:VCALENDAR
VERSION:2.0
PRODID:-//wp-events-plugin.com//7.2.3.1//EN
TZID:Europe/Berlin
X-WR-TIMEZONE:Europe/Berlin
BEGIN:VEVENT
UID:1651@herzauf.de
DTSTART;TZID=Europe/Berlin:20260531T170000
DTEND;TZID=Europe/Berlin:20260531T200000
DTSTAMP:20260419T204016Z
URL:https://www.herzauf.de/events/klang-tanz-stille-herz-flow/
SUMMARY:Klang\, Tanz & Stille: Herz-Flow
DESCRIPTION:
LOCATION:Weende Vital\, Am Weendespring 1b\, Göttingen\, Deutschland
X-APPLE-STRUCTURED-LOCATION;VALUE=URI;X-ADDRESS=Am Weendespring 1b\, Götti
 ngen\, Deutschland;X-APPLE-RADIUS=100;X-TITLE=Weende Vital:geo:0,0
END:VEVENT
BEGIN:VTIMEZONE
TZID:Europe/Berlin
X-LIC-LOCATION:Europe/Berlin
BEGIN:DAYLIGHT
DTSTART:20260329T030000
TZOFFSETFROM:+0100
TZOFFSETTO:+0200
TZNAME:CEST
END:DAYLIGHT
END:VTIMEZONE
END:VCALENDAR