BEGIN:VCALENDAR
VERSION:2.0
PRODID:-//wp-events-plugin.com//7.2.3.1//EN
TZID:Europe/Berlin
X-WR-TIMEZONE:Europe/Berlin
BEGIN:VEVENT
UID:1630@herzauf.de
DTSTART;TZID=Europe/Berlin:20260510T170000
DTEND;TZID=Europe/Berlin:20260510T180000
DTSTAMP:20260410T150417Z
URL:https://www.herzauf.de/events/klingende-stille-3/
SUMMARY:Klingende Stille
DESCRIPTION:
LOCATION:Michaelskapelle\, Walburger Straße\, Witzenhausen\, Deutschland
X-APPLE-STRUCTURED-LOCATION;VALUE=URI;X-ADDRESS=Walburger Straße\, Witzenh
 ausen\, Deutschland;X-APPLE-RADIUS=100;X-TITLE=Michaelskapelle:geo:0,0
END:VEVENT
BEGIN:VTIMEZONE
TZID:Europe/Berlin
X-LIC-LOCATION:Europe/Berlin
BEGIN:DAYLIGHT
DTSTART:20260329T030000
TZOFFSETFROM:+0100
TZOFFSETTO:+0200
TZNAME:CEST
END:DAYLIGHT
END:VTIMEZONE
END:VCALENDAR