BEGIN:VCALENDAR
VERSION:2.0
PRODID:-//wp-events-plugin.com//7.2.3.1//EN
TZID:Europe/Berlin
X-WR-TIMEZONE:Europe/Berlin
BEGIN:VEVENT
UID:1619@herzauf.de
DTSTART;TZID=Europe/Berlin:20260529T170000
DTEND;TZID=Europe/Berlin:20260529T183000
DTSTAMP:20260410T143035Z
URL:https://www.herzauf.de/events/mantrensingen-in-der-alten-post-4/
SUMMARY:Mantrensingen in der Alten Post
DESCRIPTION:Zum gemeinsamen Singen spiritueller Lieder aus aller Welt\, "di
 e uns berühren\, erinnern und uns durch den Lauf des Jahreskreises tragen
 " lädt Gundula Scheibe in die "Alte Post" in Witzenhausen ein. "Wir tauch
 en ein in Klang und Gesang\, verbinden uns in der Gemeinschaft und können
  Frieden in unseren Herzen entstehen lassen".\nGgf. Sitzkissen\, Trinken m
 itbringen...
LOCATION:Alte Post\, Walburger Str. 32\, Witzenhausen\, Deutschland
X-APPLE-STRUCTURED-LOCATION;VALUE=URI;X-ADDRESS=Walburger Str. 32\, Witzenh
 ausen\, Deutschland;X-APPLE-RADIUS=100;X-TITLE=Alte Post:geo:0,0
END:VEVENT
BEGIN:VTIMEZONE
TZID:Europe/Berlin
X-LIC-LOCATION:Europe/Berlin
BEGIN:DAYLIGHT
DTSTART:20260329T030000
TZOFFSETFROM:+0100
TZOFFSETTO:+0200
TZNAME:CEST
END:DAYLIGHT
END:VTIMEZONE
END:VCALENDAR