BEGIN:VCALENDAR
VERSION:2.0
PRODID:-//wp-events-plugin.com//7.2.3.1//EN
TZID:Europe/Berlin
X-WR-TIMEZONE:Europe/Berlin
BEGIN:VEVENT
UID:1635@herzauf.de
DTSTART;TZID=Europe/Berlin:20260501T190000
DTEND;TZID=Europe/Berlin:20260501T200000
DTSTAMP:20260415T071130Z
URL:https://www.herzauf.de/events/meditationskreis/
SUMMARY:Meditationskreis
DESCRIPTION:Meditationsgruppen im Kreis haben eine ganz besondere Kraft. De
 shalb lädt Bettina Volger zum regelmäßigen Meditationskreis ein: "In di
 eser Gruppe kannst du ankommen. So wie du bist. Bei dir selber\, zusammen 
 mit Anderen. Wo stehst du\, wie geht es dir gerade wirklich? Einfach mal a
 lles loslassen\, was jeden Tag so wichtig ist\, über freies Tanzen in die
  Selbstwahrnehmung kommen und dann für 20 Minuten ins stille Sitzen gleit
 en. Mit dem Fokus auf Atem- und Körperwahrnehmung kannst du deinen Bedür
 fnissen und Herzenswünschen nachspüren. Ein Anker in deinem Alltag!"\nBe
 ttina organisiert den Meditationskreis jeden ersten und dritten Freitag.\n
 Mehr Infos und Anmeldung: info@wunschundsein.de
LOCATION:Zentrum Synergie\, Kepplerstr. 24\, Göttingen\, Deutschland
X-APPLE-STRUCTURED-LOCATION;VALUE=URI;X-ADDRESS=Kepplerstr. 24\, Göttingen
 \, Deutschland;X-APPLE-RADIUS=100;X-TITLE=Zentrum Synergie:geo:0,0
END:VEVENT
BEGIN:VTIMEZONE
TZID:Europe/Berlin
X-LIC-LOCATION:Europe/Berlin
BEGIN:DAYLIGHT
DTSTART:20260329T030000
TZOFFSETFROM:+0100
TZOFFSETTO:+0200
TZNAME:CEST
END:DAYLIGHT
END:VTIMEZONE
END:VCALENDAR