BEGIN:VCALENDAR
VERSION:2.0
PRODID:-//wp-events-plugin.com//7.2.3.1//EN
TZID:Europe/Berlin
X-WR-TIMEZONE:Europe/Berlin
BEGIN:VEVENT
UID:1650@herzauf.de
DTSTART;TZID=Europe/Berlin:20260518T170000
DTEND;TZID=Europe/Berlin:20260518T183000
DTSTAMP:20260421T095248Z
URL:https://www.herzauf.de/events/mitsingfestival-meditative-klangraeume/
SUMMARY:Mitsingfestival: Meditative Klangräume
DESCRIPTION:Meditative Klangräume aus Taizé-Liedern möchte Annelie von T
 rotha mit Interessierten im Rahmen des ersten Mitsingfestivals der evangel
 ischen Landeskirche aufbauen. Zu diesem Zweck wird den gemeinsam mehrstimm
 ig gesungenen Liedern in besonderer Weise nachgespürt.\nGestartet wird mi
 t einem achtsamen Einsingen. Im Anschluss singt die Gruppe Taizé-Lieder m
 ehrstimmig oder im Kanon\, um schließlich nach dem Erarbeiten der einzeln
 en Stimmen dem Klang der Lieder im Raum nachzuspüren – mal im Sitzen\, 
 mal im Gehen.\nAnnelie empfiehlt bequeme Kleidung und Schuhe.\nAnmeldung: 
 annelie@trotha.de (bis 11. Mai)
LOCATION:Gemeindehaus der Kreuzkirchengemeinde\, Immanuel-Kant-Str. 46\, G
 öttingen\, Deutschland
X-APPLE-STRUCTURED-LOCATION;VALUE=URI;X-ADDRESS=Immanuel-Kant-Str. 46\, Gö
 ttingen\, Deutschland;X-APPLE-RADIUS=100;X-TITLE=Gemeindehaus der Kreuzkir
 chengemeinde:geo:0,0
END:VEVENT
BEGIN:VTIMEZONE
TZID:Europe/Berlin
X-LIC-LOCATION:Europe/Berlin
BEGIN:DAYLIGHT
DTSTART:20260329T030000
TZOFFSETFROM:+0100
TZOFFSETTO:+0200
TZNAME:CEST
END:DAYLIGHT
END:VTIMEZONE
END:VCALENDAR