BEGIN:VCALENDAR
VERSION:2.0
PRODID:-//wp-events-plugin.com//7.2.3.1//EN
TZID:Europe/Berlin
X-WR-TIMEZONE:Europe/Berlin
BEGIN:VEVENT
UID:1663@herzauf.de
DTSTART;TZID=Europe/Berlin:20260510T190000
DTEND;TZID=Europe/Berlin:20260510T200000
DTSTAMP:20260423T213846Z
URL:https://www.herzauf.de/events/nacht-der-lichter/
SUMMARY:Nacht der Lichter
DESCRIPTION:Die Nacht der Lichter steht in der Tradition der in Taizé (Fra
 nkreich) wöchentlich stattfindenden Lichterfeier\, in welcher der Auferst
 ehung Jesu Christi gedacht wird.\nKatholische und evangelische Studierende
 ngemeinde feiern an diesem Tag zusammen diese Andacht.
LOCATION:Universitätskirche St. Nikolai\, Nikolaikirchhof\, Göttingen\, D
 eutschland
X-APPLE-STRUCTURED-LOCATION;VALUE=URI;X-ADDRESS=Nikolaikirchhof\, Göttinge
 n\, Deutschland;X-APPLE-RADIUS=100;X-TITLE=Universitätskirche St. Nikolai
 :geo:0,0
END:VEVENT
BEGIN:VTIMEZONE
TZID:Europe/Berlin
X-LIC-LOCATION:Europe/Berlin
BEGIN:DAYLIGHT
DTSTART:20260329T030000
TZOFFSETFROM:+0100
TZOFFSETTO:+0200
TZNAME:CEST
END:DAYLIGHT
END:VTIMEZONE
END:VCALENDAR