BEGIN:VCALENDAR
VERSION:2.0
PRODID:-//wp-events-plugin.com//7.2.3.1//EN
TZID:Europe/Berlin
X-WR-TIMEZONE:Europe/Berlin
BEGIN:VEVENT
UID:1610@herzauf.de
DTSTART;TZID=Europe/Berlin:20260509T150000
DTEND;TZID=Europe/Berlin:20260509T190000
DTSTAMP:20260421T124538Z
URL:https://www.herzauf.de/events/naehe-durch-klare-grenzen/
SUMMARY:Nähe durch klare Grenzen
DESCRIPTION:In ihrem Workshop schaffen Kristin Schnauder und Andreas Dietri
 ch einen klaren Raum\, "in dem du in deinem Tempo in Kontakt mit dir selbs
 t und anderen treten kannst. Durch Achtsamkeit und spielerische Körperüb
 ungen erforschen wir persönliche Grenzen\, Wünsche und Bedürfnisse. Dab
 ei machen wir u.a. das Wheel of Consent erfahrbar. Du lernst\, diese ehrli
 ch zu kommunizieren – und dabei Nähe lebendig\, leicht und selbstbestim
 mt zu gestalten. Ein Erfahrungsraum für mehr Selbstkontakt\, Authentizit
 ät und Verbindung."\nKristin und Andreas lieben es\, sich selbst und ihre
  Bedürfnisse spielerisch zu erforschen\, mal langsam und zart und dann wi
 eder wild und übermütig. In den letzten Jahren haben die beiden zahlreic
 he Seminare und Retreats besucht\, aus denen sie nicht nur Inspirationen\,
  sondern echte Transformation mitgenommen haben. Sie durften lernen\, wie 
 wichtig echte Begegnung\, ehrliche Kommunikation\, verspielte Neugier und 
 respektvolle Grenzen sind. "Nun möchten wir etwas davon zurückgeben. Wir
  öffnen Räume\, in denen du dich ausprobieren\, wachsen und dir selbst u
 nd anderen herzoffen begegnen kannst."\nGedacht und geeignet ist der Works
 hop für Menschen mit Offenheit für Selbsterforschung und achtsame Begegn
 ungen.\nWeitere Infos und Anmeldung unter: herzspielraum@posteo.de\nWer si
 ch einen ersten Eindruck von Kristin &amp\; Andreas verschaffen will und e
 inen Account besitzt\, kann auf Insta bei @herzspielraum vorbeischauen.
LOCATION:Praxis Leinestraße\, Leinestr. 11\, Göttingen\, Deutschland
X-APPLE-STRUCTURED-LOCATION;VALUE=URI;X-ADDRESS=Leinestr. 11\, Göttingen\,
  Deutschland;X-APPLE-RADIUS=100;X-TITLE=Praxis Leinestraße:geo:0,0
END:VEVENT
BEGIN:VTIMEZONE
TZID:Europe/Berlin
X-LIC-LOCATION:Europe/Berlin
BEGIN:DAYLIGHT
DTSTART:20260329T030000
TZOFFSETFROM:+0100
TZOFFSETTO:+0200
TZNAME:CEST
END:DAYLIGHT
END:VTIMEZONE
END:VCALENDAR