BEGIN:VCALENDAR
VERSION:2.0
PRODID:-//wp-events-plugin.com//7.2.3.1//EN
TZID:Europe/Berlin
X-WR-TIMEZONE:Europe/Berlin
BEGIN:VEVENT
UID:1657@herzauf.de
DTSTART;TZID=Europe/Berlin:20260508T170000
DTEND;TZID=Europe/Berlin:20260508T180000
DTSTAMP:20260421T131602Z
URL:https://www.herzauf.de/events/offene-uebungsstunde-achtsamkeit-2/
SUMMARY:Open Hour Achtsamkeit
DESCRIPTION:Bodyscan\, Atemmeditation\, sanfte Körperübungen und mehr üb
 t Silke Kubik mit den Teilnehmenden der offenen Stunde zum Thema Achtsamke
 it\, die künftig monatlich geplant ist.\nFür das Treffen sind keine Vork
 enntnisse und keine Voranmeldung nötig. Einfach in bequemer Kleidung komm
 en.\nMehr Infos...
LOCATION:Geburtshaus\, Am Steinsgraben 1\, Göttingen\, Deutschland
X-APPLE-STRUCTURED-LOCATION;VALUE=URI;X-ADDRESS=Am Steinsgraben 1\, Göttin
 gen\, Deutschland;X-APPLE-RADIUS=100;X-TITLE=Geburtshaus:geo:0,0
END:VEVENT
BEGIN:VTIMEZONE
TZID:Europe/Berlin
X-LIC-LOCATION:Europe/Berlin
BEGIN:DAYLIGHT
DTSTART:20260329T030000
TZOFFSETFROM:+0100
TZOFFSETTO:+0200
TZNAME:CEST
END:DAYLIGHT
END:VTIMEZONE
END:VCALENDAR