BEGIN:VCALENDAR
VERSION:2.0
PRODID:-//wp-events-plugin.com//7.2.3.1//EN
TZID:Europe/Berlin
X-WR-TIMEZONE:Europe/Berlin
BEGIN:VEVENT
UID:1631@herzauf.de
DTSTART;TZID=Europe/Berlin:20260426T110000
DTEND;TZID=Europe/Berlin:20260426T123000
DTSTAMP:20260413T090754Z
URL:https://www.herzauf.de/events/offener-sonntag-mit-fluentbody/
SUMMARY:Offener Sonntag mit Fluentbody
DESCRIPTION:Zu einer offenen Session mit Fluentbody lädt Caroline Asal an 
 diesem Sonntag vormittag ein. Fluentbody ist eine Praxis an der Schnittste
 lle von Bewegung und somatischer Arbeit. Sie lädt ein\, großzügig mit d
 em Körper und dem Geist zu sein.\nCaloline beschreibt: "Gemeinsam begeben
  wir uns auf eine Reise durch Bewegung\, Verbindung und Wahrnehmung\, um d
 en feinen Schichten in uns zu begegnen. Bewusste und unbewusste Bewegungen
  verweben sich\, und daraus entstehen zarte Impulse – jenseits von Selbs
 turteil. Türen zu neuen Räumen öffnen sich\, körperliche Empfindungen 
 werden lebendig und berühren oft auch eine emotionale Ebene. Die Praxis 
 kann dich unterstützen\, wenn du dich müde oder schwer fühlst\, den Zug
 ang zu deinem Körper verloren hast\, viel im Kopf bist\, dich blockiert e
 rlebst\, mit Schmerzen lebst – oder einfach Lust hast\, dich zu bewegen 
 und zu erforschen. Fluentbody ist eine Einladung zur neugierigen Erforschu
 ng von Bewegung und ein Übungsfeld für mehr Großzügigkeit mit dir selb
 st und anderen – mit Werkzeugen\, die sich leicht in den Alltag übertra
 gen lassen. Eine Reise voller Überraschungen\, die Zugang zu Resilienz\, 
 Wahlmöglichkeiten und zur Kunst des Sich-Verbindens eröffnet – Bewegun
 g für Bewegung\, Atemzug für Atemzug."\nVorerfahrung ist nicht nötig.\n
 Kontakt: info@carolineasal.com
LOCATION:Tanzraum der musa\, Hagenweg 2a\, Göttingen\, Deutschland
X-APPLE-STRUCTURED-LOCATION;VALUE=URI;X-ADDRESS=Hagenweg 2a\, Göttingen\, 
 Deutschland;X-APPLE-RADIUS=100;X-TITLE=Tanzraum der musa:geo:0,0
END:VEVENT
BEGIN:VTIMEZONE
TZID:Europe/Berlin
X-LIC-LOCATION:Europe/Berlin
BEGIN:DAYLIGHT
DTSTART:20260329T030000
TZOFFSETFROM:+0100
TZOFFSETTO:+0200
TZNAME:CEST
END:DAYLIGHT
END:VTIMEZONE
END:VCALENDAR