BEGIN:VCALENDAR
VERSION:2.0
PRODID:-//wp-events-plugin.com//7.2.3.1//EN
TZID:Europe/Berlin
X-WR-TIMEZONE:Europe/Berlin
BEGIN:VEVENT
UID:1653@herzauf.de
DTSTART;TZID=Europe/Berlin:20260506T200000
DTEND;TZID=Europe/Berlin:20260506T213000
DTSTAMP:20260421T100135Z
URL:https://www.herzauf.de/events/uebungsabend-zur-stressbewaeltigung-mit-
 rompc/
SUMMARY:Übungsabend zur Stressbewältigung mit ROMPC
DESCRIPTION:Beim regelmäßigen Informations- und Übungsabend zur ROMPC-Me
 thode führen Fachkräfte aus dem Sozial- und Gesundheitswesen in die Stre
 ssbewältigung durch Meridian-Klopfen ein und leiten Übungen zur Selbstan
 wendung an. Den im Göttinger ROMPC-Netzwerk vereintenen Fachleuten zufolg
 e trägt die Methode neben akuter Stressbewältigung dazu bei\, Stress- od
 er Erfolgsblockaden zu lösen\, innere Ängste zu bewältigen sowie insges
 amt mehr Gelassenheit zu gewinnen.\nDie Abende finden abwechselnd online (
 1. Mittwoch im Monat) oder in Präsenz (3. Mittwoch) statt und sind für M
 enschen mit und ohne Vorkenntnissen zum Kennenlernen und Vertiefen gedacht
 .\nDie Leitung übernehmen die Mitglieder des Netzwerkes abwechselnd. Dies
 mal leitet Andrea Raith das Treffen online.\nMehr Infos...\nAnmeldung: rom
 pc-goettingen@posteo.de
END:VEVENT
BEGIN:VTIMEZONE
TZID:Europe/Berlin
X-LIC-LOCATION:Europe/Berlin
BEGIN:DAYLIGHT
DTSTART:20260329T030000
TZOFFSETFROM:+0100
TZOFFSETTO:+0200
TZNAME:CEST
END:DAYLIGHT
END:VTIMEZONE
END:VCALENDAR