BEGIN:VCALENDAR
VERSION:2.0
PRODID:-//wp-events-plugin.com//7.2.3.1//EN
TZID:Europe/Berlin
X-WR-TIMEZONE:Europe/Berlin
BEGIN:VEVENT
UID:1621@herzauf.de
DTSTART;TZID=Europe/Berlin:20260501T195000
DTEND;TZID=Europe/Berlin:20260501T203000
DTSTAMP:20260410T143413Z
URL:https://www.herzauf.de/events/ulmentanz/
SUMMARY:Ulmentanz
DESCRIPTION:Monatlich am Vollmondtag wird dieser zeremonielle Kreistanz in 
 vielen Gebieten der Erde zur Bewahrung der menschlichen Lebensgrundlagen z
 elebriert.\nSo auch in Göttingen.\nMehr Infos...
LOCATION:Am Cheltenhampark\, direkt neben der Stadthalle\, Albaniplatz\, G
 öttingen\, Deutschland
X-APPLE-STRUCTURED-LOCATION;VALUE=URI;X-ADDRESS=Albaniplatz\, Göttingen\, 
 Deutschland;X-APPLE-RADIUS=100;X-TITLE=Am Cheltenhampark\, direkt neben de
 r Stadthalle:geo:0,0
END:VEVENT
BEGIN:VTIMEZONE
TZID:Europe/Berlin
X-LIC-LOCATION:Europe/Berlin
BEGIN:DAYLIGHT
DTSTART:20260329T030000
TZOFFSETFROM:+0100
TZOFFSETTO:+0200
TZNAME:CEST
END:DAYLIGHT
END:VTIMEZONE
END:VCALENDAR