BEGIN:VCALENDAR
VERSION:2.0
PRODID:-//wp-events-plugin.com//7.2.3.1//EN
TZID:Europe/Berlin
X-WR-TIMEZONE:Europe/Berlin
BEGIN:VEVENT
UID:1644@herzauf.de
DTSTART;TZID=Europe/Berlin:20260520T190000
DTEND;TZID=Europe/Berlin:20260520T210000
DTSTAMP:20260418T000254Z
URL:https://www.herzauf.de/events/voice-of-spirit-mit-anke-2/
SUMMARY:Voice of Spirit mit Anke
DESCRIPTION:Mantras und mehr im offenen Kreis - heute mit Anke Wittenbecher
 .\n\n\n„Die Liebe ist ein Mantra\, das wir mit dem Herzen singen - nicht
  nur mit den Lippen.“\n(Mata Amritanandamayi)\n\nMehr Infos...
LOCATION:GesundheitsPraxis\, Wiesenstr. 14\, Göttingen\, Deutschland
X-APPLE-STRUCTURED-LOCATION;VALUE=URI;X-ADDRESS=Wiesenstr. 14\, Göttingen\
 , Deutschland;X-APPLE-RADIUS=100;X-TITLE=GesundheitsPraxis:geo:0,0
END:VEVENT
BEGIN:VTIMEZONE
TZID:Europe/Berlin
X-LIC-LOCATION:Europe/Berlin
BEGIN:DAYLIGHT
DTSTART:20260329T030000
TZOFFSETFROM:+0100
TZOFFSETTO:+0200
TZNAME:CEST
END:DAYLIGHT
END:VTIMEZONE
END:VCALENDAR