BEGIN:VCALENDAR
VERSION:2.0
PRODID:-//wp-events-plugin.com//7.2.3.1//EN
TZID:Europe/Berlin
X-WR-TIMEZONE:Europe/Berlin
BEGIN:VEVENT
UID:1620@herzauf.de
DTSTART;TZID=Europe/Berlin:20260508T190000
DTEND;TZID=Europe/Berlin:20260508T210000
DTSTAMP:20260410T143133Z
URL:https://www.herzauf.de/events/voice-of-spirit-mit-astrid-5/
SUMMARY:Voice of Spirit mit Astrid
DESCRIPTION:Am jeweils zweiten und vierten Freitag im Monat leitet Astrid F
 akler den Singkreis Voice of Spirit an.\nDafür ist eine Anmeldung erforde
 rlich\, denn der Ort des Treffens kann wechseln.\nKontakt und weitere Info
 s...
LOCATION:https://www.heilsames-singen-goettingen.de/mantra-singen-2x-im-mon
 at-freitags.htm
END:VEVENT
BEGIN:VTIMEZONE
TZID:Europe/Berlin
X-LIC-LOCATION:Europe/Berlin
BEGIN:DAYLIGHT
DTSTART:20260329T030000
TZOFFSETFROM:+0100
TZOFFSETTO:+0200
TZNAME:CEST
END:DAYLIGHT
END:VTIMEZONE
END:VCALENDAR